{"text_format":"1","workbook":"xlsx","n_sheets":1,"sheets":["Sheet1"],"not_rendered":{"charts":0,"images":0,"macros":0,"external_links":1,"defined_names":1,"comments":0,"pivot_tables":0},"unopened":[],"bounds":{"document_bytes":16777216,"sheet_cells":100000,"rows_first":2000,"rows_last":500,"rows_between":2000,"halvings":0,"cell_chars":16384,"cell_head_chars":4096},"cells_cut":0,"cells_raw":0,"read":"whole","date_system":"1900"}

{"sheet":"Sheet1","index":0,"n_rows":460,"n_cols":9,"rows_kept":460,"cut":false,"hidden":false,"merged":[]}
[]
["Below are the sales results for the 10-17-23 auction held at Manheim Keystone, 488 Firehouse Road, Grantville PA  17028"]
["If there is a certain vehicle you are looking for and it's not in the list below, it was either a \"Pull\" or \"No Sale\" and will be offered (pending title) in the next sale in December 2023."]
[]
["Note: Numbers 990 and above were inoperable units sold on photos at their home loacation.",null,null,null,null,"Tentative Date for next sale is 12-17-23 "]
[]
[]
["ITEM #","VIN","YEAR","MAKE","MODEL","MILEAGE","COMMENTS","SALE PRICE","DEALER (Y/N)"]
["100","1FM5K8AR4JGC18426",2018,"FORD","EXPLORER",79292,null,{"$f":"'[1]Buyer_Detail_for_Sellers (2)'!K3","v":7600},"Y"]
["101","1FM5K8AR1HGC41334",2017,"FORD","POL INTRCEPT",173595,null,{"$f":"'[1]Buyer_Detail_for_Sellers (2)'!K4","v":3600},"Y"]
["102","1FAHP2MK3HG136170",2017,"FORD","POL INTRCEPT",159418,null,{"$f":"'[1]Buyer_Detail_for_Sellers (2)'!K5","v":3200},"Y"]
["103","1FM5K8AR9HGC96095",2017,"FORD","POL INTRCEPT",181948,null,{"$f":"'[1]Buyer_Detail_for_Sellers (2)'!K6","v":4000},"Y"]
["104","1FM5K8AR4HGC96084",2017,"FORD","POL INTRCEPT",175206,null,{"$f":"'[1]Buyer_Detail_for_Sellers (2)'!K7","v":4000},"Y"]
["105","1FM5K8AR7HGB72746",2017,"FORD","POL INTRCEPT",174326,null,{"$f":"'[1]Buyer_Detail_for_Sellers (2)'!K8","v":5200},"Y"]
["106","1FM5K8AR4HGB72753",2017,"FORD","POL INTRCEPT",181583,null,{"$f":"'[1]Buyer_Detail_for_Sellers (2)'!K9","v":4400},"Y"]
["107","1FM5K8AR5HGE25725",2017,"FORD","POL INTRCEPT",180622,null,{"$f":"'[1]Buyer_Detail_for_Sellers (2)'!K10","v":4200},"Y"]
["108","1FM5K8ARXHGC96090",2017,"FORD","POL INTRCEPT",175893,null,{"$f":"'[1]Buyer_Detail_for_Sellers (2)'!K11","v":4800},"Y"]
["109","1FM5K8AR6HGE14328",2017,"FORD","POL INTRCEPT",183311,null,{"$f":"'[1]Buyer_Detail_for_Sellers (2)'!K12","v":4000},"Y"]
["110","1FAHP2MK4HG143421",2017,"FORD","POL INTRCEPT",177216,null,{"$f":"'[1]Buyer_Detail_for_Sellers (2)'!K13","v":4500},"Y"]
["111","1FM5K8AR1HGE14267",2017,"FORD","POL INTRCEPT",174383,null,{"$f":"'[1]Buyer_Detail_for_Sellers (2)'!K14","v":4800},"Y"]
["112","3FA6P0G73KR278019",2019,"FORD","FUSION",100773,null,{"$f":"'[1]Buyer_Detail_for_Sellers (2)'!K15","v":10200},"Y"]
["113","3FA6P0G77JR133211",2018,"FORD","FUSION",101240,null,{"$f":"'[1]Buyer_Detail_for_Sellers (2)'!K16","v":9800},"Y"]
["114","3FA6P0G77JR133208",2018,"FORD","FUSION",101786,null,{"$f":"'[1]Buyer_Detail_for_Sellers (2)'!K17","v":9600},"Y"]
["115","3FA6P0G73KR183363",2019,"FORD","FUSION",104122,null,{"$f":"'[1]Buyer_Detail_for_Sellers (2)'!K18","v":8200},"Y"]
["116","3FA6P0G75JR133210",2018,"FORD","FUSION",119586,null,{"$f":"'[1]Buyer_Detail_for_Sellers (2)'!K19","v":8800},"Y"]
["117","3FA6P0G79JR133212",2018,"FORD","FUSION",126193,null,{"$f":"'[1]Buyer_Detail_for_Sellers (2)'!K20","v":7600},"Y"]
["118","3FA6P0T94JR242801",2018,"FORD","FUSION",131232,null,{"$f":"'[1]Buyer_Detail_for_Sellers (2)'!K21","v":7200},"Y"]
["119","1C4BJWDG8FL651867",2015,"JEEP","WRANGLER",107854,null,{"$f":"'[1]Buyer_Detail_for_Sellers (2)'!K22","v":13600},"Y"]
["120","1G11X5S35JU119654",2018,"CHEVROLET","IMPALA",64471,null,{"$f":"'[1]Buyer_Detail_for_Sellers (2)'!K23","v":14200},"Y"]
["121","2G11X5S32J9124792",2018,"CHEVROLET","IMPALA",97223,null,{"$f":"'[1]Buyer_Detail_for_Sellers (2)'!K24","v":11400},"Y"]
["122","1G11X5S38KU141987",2019,"CHEVROLET","IMPALA",98576,null,{"$f":"'[1]Buyer_Detail_for_Sellers (2)'!K25","v":12200},"Y"]
["123","2G11X5S38J9123999",2018,"CHEVROLET","IMPALA",98875,null,{"$f":"'[1]Buyer_Detail_for_Sellers (2)'!K26","v":10600},"Y"]
["124","2G11X5S39J9165730",2018,"CHEVROLET","IMPALA",100904,null,{"$f":"'[1]Buyer_Detail_for_Sellers (2)'!K27","v":11000},"Y"]
["125","1G11X5S37JU119946",2018,"CHEVROLET","IMPALA",101059,null,{"$f":"'[1]Buyer_Detail_for_Sellers (2)'!K28","v":11600},"Y"]
["126","2G11X5S30J9164255",2018,"CHEVROLET","IMPALA",102352,null,{"$f":"'[1]Buyer_Detail_for_Sellers (2)'!K29","v":8600},"Y"]
["127","2G11X5S31J9146783",2018,"CHEVROLET","IMPALA",104844,null,{"$f":"'[1]Buyer_Detail_for_Sellers (2)'!K30","v":9400},"Y"]
["128","2G11X5S35J9147726",2018,"CHEVROLET","IMPALA",105044,null,{"$f":"'[1]Buyer_Detail_for_Sellers (2)'!K31","v":10900},"Y"]
["129","2G11X5S34J9147264",2018,"CHEVROLET","IMPALA",105476,null,{"$f":"'[1]Buyer_Detail_for_Sellers (2)'!K32","v":10600},"Y"]
["130","1FADP3F26EL393344",2014,"FORD","FOCUS",69855,null,{"$f":"'[1]Buyer_Detail_for_Sellers (2)'!K33","v":3000},"Y"]
["131","1FADP3F20HL286777",2017,"FORD","FOCUS",88725,null,{"$f":"'[1]Buyer_Detail_for_Sellers (2)'!K34","v":6800},"Y"]
["132","1FADP3F22EL383054",2014,"FORD","FOCUS",77964,null,{"$f":"'[1]Buyer_Detail_for_Sellers (2)'!K35","v":5200},"Y"]
["133","1FADP3F20EL364194",2014,"FORD","FOCUS",94794,null,{"$f":"'[1]Buyer_Detail_for_Sellers (2)'!K36","v":4100},"Y"]
["134","2C4RDGBG5JR177486",2018,"DODGE","CARAVAN",24969,null,{"$f":"'[1]Buyer_Detail_for_Sellers (2)'!K37","v":17900},"Y"]
["135","2C4RDGBG1JR177484",2018,"DODGE","CARAVAN",34733,null,{"$f":"'[1]Buyer_Detail_for_Sellers (2)'!K38","v":16300},"Y"]
["136","2C4RDGBG5DR672209",2013,"DODGE","CARAVAN",58072,null,{"$f":"'[1]Buyer_Detail_for_Sellers (2)'!K39","v":7700},"N"]
["137","2C4RDGBG6DR656214",2013,"DODGE","CARAVAN",66388,null,{"$f":"'[1]Buyer_Detail_for_Sellers (2)'!K40","v":6200},"Y"]
["138","2C4RDGBG0HR839033",2017,"DODGE","CARAVAN",67428,null,{"$f":"'[1]Buyer_Detail_for_Sellers (2)'!K41","v":12800},"Y"]
["139","2C4RDGBG3DR672192",2013,"DODGE","CARAVAN",69241,null,{"$f":"'[1]Buyer_Detail_for_Sellers (2)'!K42","v":6000},"Y"]
["140","1FM5K8AR9HGB72716",2017,"FORD","POL INTRCEPT",182201,null,{"$f":"'[1]Buyer_Detail_for_Sellers (2)'!K43","v":4200},"Y"]
["141","1FAHP2MK1EG186061",2014,"FORD","TAURUS",79408,null,{"$f":"'[1]Buyer_Detail_for_Sellers (2)'!K44","v":4000},"Y"]
["142","1FM5K8AR8DGC01911",2013,"FORD","EXPLORER",99762,null,0]
["143","1FAHP2M82DG151001",2013,"FORD","POL INTRCEPT",154091,null,{"$f":"'[1]Buyer_Detail_for_Sellers (2)'!K45","v":4400},"N"]
["144","1FAHP2M81DG158201",2013,"FORD","POL INTRCEPT",164007,null,{"$f":"'[1]Buyer_Detail_for_Sellers (2)'!K46","v":3600},"Y"]
["145","1FAHP2M85DG134905",2013,"FORD","POL INTRCEPT",179940,null,{"$f":"'[1]Buyer_Detail_for_Sellers (2)'!K47","v":3000},"Y"]
["146","1FM5K8AR7DGC53918",2013,"FORD","POL INTRCEPT",190253,null,{"$f":"'[1]Buyer_Detail_for_Sellers (2)'!K48","v":2500},"Y"]
["147","1FM5K8AR6DGC53957",2013,"FORD","POL INTRCEPT",204651,null,{"$f":"'[1]Buyer_Detail_for_Sellers (2)'!K49","v":3200},"Y"]
["148","1C4BJWDGXHL502332",2017,"JEEP","WRANGLER",101331,null,{"$f":"'[1]Buyer_Detail_for_Sellers (2)'!K50","v":15000},"Y"]
["149","3FA6P0G72HR159337",2017,"FORD","FUSION",71458,null,{"$f":"'[1]Buyer_Detail_for_Sellers (2)'!K51","v":9400},"Y"]
["150","3FA6P0G76HR286818",2017,"FORD","FUSION",91185,null,{"$f":"'[1]Buyer_Detail_for_Sellers (2)'!K52","v":9100},"Y"]
["151","3FA6P0G72HR358193",2017,"FORD","FUSION",92155,null,{"$f":"'[1]Buyer_Detail_for_Sellers (2)'!K53","v":9400},"Y"]
["152","3FA6P0G75HR358205",2017,"FORD","FUSION",93095,"TRANSMISSION ISSUES",{"$f":"'[1]Buyer_Detail_for_Sellers (2)'!K54","v":7200},"Y"]
["153","3FA6P0G7XHR159344",2017,"FORD","FUSION",94943,null,{"$f":"'[1]Buyer_Detail_for_Sellers (2)'!K55","v":9000},"Y"]
["154","3FA6P0G70HR369323",2017,"FORD","FUSION",95662,null,{"$f":"'[1]Buyer_Detail_for_Sellers (2)'!K56","v":9000},"Y"]
["155","3FA6P0G7XHR164401",2017,"FORD","FUSION",95787,null,{"$f":"'[1]Buyer_Detail_for_Sellers (2)'!K57","v":9000},"Y"]
["156","3FA6P0G71HR159328",2017,"FORD","FUSION",95995,null,0]
["157","3FA6P0G7XHR369328",2017,"FORD","FUSION",96309,null,{"$f":"'[1]Buyer_Detail_for_Sellers (2)'!K58","v":9200},"Y"]
["158","3FA6P0G78HR159343",2017,"FORD","FUSION",97025,null,0]
["159","3FA6P0G73HR286825",2017,"FORD","FUSION",97937,null,{"$f":"'[1]Buyer_Detail_for_Sellers (2)'!K59","v":9400},"Y"]
["160","3FA6P0G74HR358194",2017,"FORD","FUSION",98128,null,{"$f":"'[1]Buyer_Detail_for_Sellers (2)'!K60","v":9000},"Y"]
["161","2G1WA5E34G1105428",2016,"CHEVROLET","IMPALA",93631,null,{"$f":"'[1]Buyer_Detail_for_Sellers (2)'!K61","v":9000},"Y"]
["162","2G1WA5E37G1105598",2016,"CHEVROLET","IMPALA",97298,null,{"$f":"'[1]Buyer_Detail_for_Sellers (2)'!K62","v":9200},"Y"]
["163","2G11X5S34J9147359",2018,"CHEVROLET","IMPALA",107537,null,{"$f":"'[1]Buyer_Detail_for_Sellers (2)'!K63","v":11600},"Y"]
["164","1G11X5S35JU119718",2018,"CHEVROLET","IMPALA",109551,null,{"$f":"'[1]Buyer_Detail_for_Sellers (2)'!K64","v":11400},"Y"]
["165","1G11X5S3XKU142476",2019,"CHEVROLET","IMPALA",112394,null,{"$f":"'[1]Buyer_Detail_for_Sellers (2)'!K65","v":11300},"Y"]
["166","2G1WA5E34G1105770",2016,"CHEVROLET","IMPALA",119089,null,{"$f":"'[1]Buyer_Detail_for_Sellers (2)'!K66","v":5600},"Y"]
["167","2G1WA5E35G1105423",2016,"CHEVROLET","IMPALA",124543,null,{"$f":"'[1]Buyer_Detail_for_Sellers (2)'!K67","v":5200},"Y"]
["168","2G1WA5E37G1100093",2016,"CHEVROLET","IMPALA",140701,null,{"$f":"'[1]Buyer_Detail_for_Sellers (2)'!K68","v":3100},"Y"]
["169","2G11X5S31J9164829",2018,"CHEVROLET","IMPALA",151202,null,{"$f":"'[1]Buyer_Detail_for_Sellers (2)'!K69","v":7500},"Y"]
["170","5NPE24AF2GH276641",2016,"HYUNDAI","SONATA",93410,null,{"$f":"'[1]Buyer_Detail_for_Sellers (2)'!K70","v":7300},"N"]
["171","5NPE24AFXHH477320",2017,"HYUNDAI","SONATA",104770,null,{"$f":"'[1]Buyer_Detail_for_Sellers (2)'!K71","v":5200},"Y"]
["172","1FAHP2MK6GG129793",2016,"FORD","POL INTRCEPT",158307,null,{"$f":"'[1]Buyer_Detail_for_Sellers (2)'!K72","v":2400},"Y"]
["173","1FAHP2MK1GG127126",2016,"FORD","POL INTRCEPT",161282,null,{"$f":"'[1]Buyer_Detail_for_Sellers (2)'!K73","v":2600},"Y"]
["175","1FM5K8AR7GGC95655",2016,"FORD","POL INTRCEPT",173444,null,{"$f":"'[1]Buyer_Detail_for_Sellers (2)'!K74","v":3900},"Y"]
["176","1FAHP2MK5GG127064",2016,"FORD","POL INTRCEPT",179141,null,{"$f":"'[1]Buyer_Detail_for_Sellers (2)'!K75","v":4000},"Y"]
["177","1FM5K8AR9HGB72697",2017,"FORD","POL INTRCEPT",154912,null,{"$f":"'[1]Buyer_Detail_for_Sellers (2)'!K76","v":4300},"Y"]
["178","1FM5K8AR9HGB72702",2017,"FORD","POL INTRCEPT",171249,null,{"$f":"'[1]Buyer_Detail_for_Sellers (2)'!K77","v":3800},"Y"]
["179","1FM5K8AR8HGE25749",2017,"FORD","POL INTRCEPT",171651,null,{"$f":"'[1]Buyer_Detail_for_Sellers (2)'!K78","v":4100},"Y"]
["180","1FM5K8AR2HGE25746",2017,"FORD","POL INTRCEPT",173626,null,{"$f":"'[1]Buyer_Detail_for_Sellers (2)'!K79","v":3800},"Y"]
["181","1FM5K8AR8HGE14296",2017,"FORD","POL INTRCEPT",178582,null,{"$f":"'[1]Buyer_Detail_for_Sellers (2)'!K80","v":3900},"Y"]
["182","1FM5K8AR2HGC10593",2017,"FORD","POL INTRCEPT",178597,null,{"$f":"'[1]Buyer_Detail_for_Sellers (2)'!K81","v":4100},"Y"]
["183","1FM5K8AR6HGC10600",2017,"FORD","POL INTRCEPT",180066,null,{"$f":"'[1]Buyer_Detail_for_Sellers (2)'!K82","v":3000},"Y"]
["184","1FM5K8ARXHGB72675",2017,"FORD","POL INTRCEPT",182235,null,{"$f":"'[1]Buyer_Detail_for_Sellers (2)'!K83","v":4100},"Y"]
["185","1FMCU9G6XLUA59680",2020,"FORD","ESCAPE",96978,null,{"$f":"'[1]Buyer_Detail_for_Sellers (2)'!K84","v":11900},"N"]
["186","1FMCU9C79AKD46967",2010,"FORD","ESCAPE",168061,null,{"$f":"'[1]Buyer_Detail_for_Sellers (2)'!K85","v":1600},"Y"]
["187","1C4BJWDG1FL651869",2015,"JEEP","WRANGLER",117684,null,{"$f":"'[1]Buyer_Detail_for_Sellers (2)'!K86","v":12500},"Y"]
["188","1FM5K8B87EGA50244",2014,"FORD","EXPLORER",86235,null,{"$f":"'[1]Buyer_Detail_for_Sellers (2)'!K87","v":8000},"Y"]
["189","1FM5K8B84EGA38939",2014,"FORD","EXPLORER",89966,null,0]
["190","1FM5K8B85EGA50243",2014,"FORD","EXPLORER",90711,null,{"$f":"'[1]Buyer_Detail_for_Sellers (2)'!K88","v":7600},"Y"]
["191","1FM5K8B80EGA50246",2014,"FORD","EXPLORER",90881,null,0]
["192","1FM5K8B86DGC96393",2013,"FORD","EXPLORER",93278,null,{"$f":"'[1]Buyer_Detail_for_Sellers (2)'!K89","v":6400},"Y"]
["193","1FM5K8B84DGC96392",2013,"FORD","EXPLORER",95168,null,{"$f":"'[1]Buyer_Detail_for_Sellers (2)'!K90","v":8800},"Y"]
["194","1FM5K8B85HGC14434",2017,"FORD","EXPLORER",96081,null,{"$f":"'[1]Buyer_Detail_for_Sellers (2)'!K91","v":13000},"Y"]
["195","1FM5K8B84HGD06926",2017,"FORD","EXPLORER",98128,null,{"$f":"'[1]Buyer_Detail_for_Sellers (2)'!K92","v":14200},"N"]
["196","1FM5K8B80KGB27046",2019,"FORD","EXPLORER",99453,null,0]
["197","1FM5K8B85EGB54618",2014,"FORD","EXPLORER",105713,null,0]
["198","1G11A5SL2FF308372",2015,"CHEVROLET","MALIBU",40829,null,{"$f":"'[1]Buyer_Detail_for_Sellers (2)'!K93","v":9600},"Y"]
["199","1G1ZA5EU2CF393457",2012,"CHEVROLET","MALIBU",54256,null,{"$f":"'[1]Buyer_Detail_for_Sellers (2)'!K94","v":5200},"Y"]
["200","1G1ZA5EU8CF393656",2012,"CHEVROLET","MALIBU",55125,null,{"$f":"'[1]Buyer_Detail_for_Sellers (2)'!K95","v":5600},"Y"]
["201","1G1ZC5ST4HF226000",2017,"CHEVROLET","MALIBU",82270,null,0]
["202","1G1ZA5EU2CF394950",2012,"CHEVROLET","MALIBU",82678,null,6200,"Y"]
["203","1G1ZD5ST9JF241028",2018,"CHEVROLET","MALIBU",84810,"A.G. SEIZED UNIT",0]
["204","1G1ZA5EU0CF259451",2012,"CHEVROLET","MALIBU",92888,null,{"$f":"'[1]Buyer_Detail_for_Sellers (2)'!K97","v":5000},"Y"]
["205","1G11A5SL7FF307363",2015,"CHEVROLET","MALIBU",93064,null,{"$f":"'[1]Buyer_Detail_for_Sellers (2)'!K98","v":7400},"Y"]
["206","1G11C5SAXGF156464",2016,"CHEVROLET","MALIBU",94188,null,{"$f":"'[1]Buyer_Detail_for_Sellers (2)'!K99","v":8600},"Y"]
["207","1G1ZA5EU8CF395178",2012,"CHEVROLET","MALIBU",95903,null,{"$f":"'[1]Buyer_Detail_for_Sellers (2)'!K100","v":5400},"Y"]
["208","1G11A5SL7FF295182",2015,"CHEVROLET","MALIBU",96410,null,{"$f":"'[1]Buyer_Detail_for_Sellers (2)'!K101","v":7200},"Y"]
["209","1G1ZC5ST4HF225753",2017,"CHEVROLET","MALIBU",97563,null,{"$f":"'[1]Buyer_Detail_for_Sellers (2)'!K102","v":9000},"Y"]
["210","5UXWX9C58F0D60712",2015,"BMW","X3",77632,"A.G. SEIZED UNIT",{"$f":"'[1]Buyer_Detail_for_Sellers (2)'!K103","v":12000},"N"]
["211","1FM5K8AR0HGB83992",2017,"FORD","POL INTRCEPT",184483,null,{"$f":"'[1]Buyer_Detail_for_Sellers (2)'!K104","v":3300},"Y"]
["212","1FM5K8AR3HGE25738",2017,"FORD","POL INTRCEPT",193911,null,{"$f":"'[1]Buyer_Detail_for_Sellers (2)'!K105","v":4200},"Y"]
["213","1FM5K8AR6FGA57763",2015,"FORD","EXPLORER",108819,null,{"$f":"'[1]Buyer_Detail_for_Sellers (2)'!K106","v":4000},"Y"]
["214","1FM5K8ARXFGA47303",2015,"FORD","POL INTRCEPT",166422,null,{"$f":"'[1]Buyer_Detail_for_Sellers (2)'!K107","v":2900},"Y"]
["215","1FAHP2MK0FG178504",2015,"FORD","POL INTRCEPT",168108,null,{"$f":"'[1]Buyer_Detail_for_Sellers (2)'!K108","v":3900},"Y"]
["216","1FM5K8AR7FGC17472",2015,"FORD","POL INTRCEPT",188949,null,{"$f":"'[1]Buyer_Detail_for_Sellers (2)'!K109","v":2700},"Y"]
["217","1FA6P0G78G5119653",2016,"FORD","FUSION",87932,null,{"$f":"'[1]Buyer_Detail_for_Sellers (2)'!K110","v":8600},"Y"]
["218","3FA6P0G78GR250918",2016,"FORD","FUSION",95674,null,{"$f":"'[1]Buyer_Detail_for_Sellers (2)'!K111","v":7400},"Y"]
["219","3FA6P0G77HR159348",2017,"FORD","FUSION",99870,null,{"$f":"'[1]Buyer_Detail_for_Sellers (2)'!K112","v":8600},"Y"]
["220","3FA6P0G72GR250932",2016,"FORD","FUSION",102302,null,{"$f":"'[1]Buyer_Detail_for_Sellers (2)'!K113","v":7800},"Y"]
["221","3FA6P0G73GR250910",2016,"FORD","FUSION",104360,null,{"$f":"'[1]Buyer_Detail_for_Sellers (2)'!K114","v":5600},"Y"]
["222","3FA6P0G78GR250935",2016,"FORD","FUSION",107805,null,{"$f":"'[1]Buyer_Detail_for_Sellers (2)'!K115","v":7000},"Y"]
["223","3FA6P0G78HR286805",2017,"FORD","FUSION",111148,null,{"$f":"'[1]Buyer_Detail_for_Sellers (2)'!K116","v":7600},"Y"]
["224","3FA6P0G75GR250925",2016,"FORD","FUSION",116486,null,{"$f":"'[1]Buyer_Detail_for_Sellers (2)'!K117","v":7000},"Y"]
["225","3FA6P0G79HR159349",2017,"FORD","FUSION",116830,null,{"$f":"'[1]Buyer_Detail_for_Sellers (2)'!K118","v":7400},"Y"]
["226","1FA6P0G7XG5119654",2016,"FORD","FUSION",117158,null,{"$f":"'[1]Buyer_Detail_for_Sellers (2)'!K119","v":6800},"Y"]
["227","3FA6P0G72HR286816",2017,"FORD","FUSION",120997,null,{"$f":"'[1]Buyer_Detail_for_Sellers (2)'!K120","v":6600},"Y"]
["228","3FA6P0G76HR358195",2017,"FORD","FUSION",129158,null,0]
["229","1G1JC5SG0E4142358",2014,"CHEVROLET","SONIC",89207,null,{"$f":"'[1]Buyer_Detail_for_Sellers (2)'!K121","v":5200},"Y"]
["230","5NPE24AF4HH564646",2017,"HYUNDAI","SONATA",119693,null,{"$f":"'[1]Buyer_Detail_for_Sellers (2)'!K122","v":4600},"Y"]
["231","5NPE24AF2HH493043",2017,"HYUNDAI","SONATA",101345,null,{"$f":"'[1]Buyer_Detail_for_Sellers (2)'!K123","v":5600},"Y"]
["232","2G1WA5E33E1149773",2014,"CHEVROLET","IMPALA",72600,null,{"$f":"'[1]Buyer_Detail_for_Sellers (2)'!K124","v":9400},"Y"]
["233","2G1WA5E33E1141091",2014,"CHEVROLET","IMPALA",84244,null,{"$f":"'[1]Buyer_Detail_for_Sellers (2)'!K125","v":9100},"Y"]
["234","2G1WA5E34E1138569",2014,"CHEVROLET","IMPALA",90657,null,{"$f":"'[1]Buyer_Detail_for_Sellers (2)'!K126","v":7600},"Y"]
["235","2G1WA5E38E1186768",2014,"CHEVROLET","IMPALA",92439,null,{"$f":"'[1]Buyer_Detail_for_Sellers (2)'!K127","v":7600},"Y"]
["236","2G1WA5E30E1136821",2014,"CHEVROLET","IMPALA",93145,null,{"$f":"'[1]Buyer_Detail_for_Sellers (2)'!K128","v":7400},"Y"]
["237","2G1WA5E38E1185703",2014,"CHEVROLET","IMPALA",93362,null,{"$f":"'[1]Buyer_Detail_for_Sellers (2)'!K129","v":8400},"Y"]
["238","2G1WA5E39E1152757",2014,"CHEVROLET","IMPALA",93661,null,{"$f":"'[1]Buyer_Detail_for_Sellers (2)'!K130","v":8400},"Y"]
["239","2G1WA5E38E1140986",2014,"CHEVROLET","IMPALA",94597,null,{"$f":"'[1]Buyer_Detail_for_Sellers (2)'!K131","v":8000},"Y"]
["240","2G1WA5E39E1135103",2014,"CHEVROLET","IMPALA",95806,null,{"$f":"'[1]Buyer_Detail_for_Sellers (2)'!K132","v":7400},"Y"]
["241","2G1WA5E30E1137953",2014,"CHEVROLET","IMPALA",96455,null,{"$f":"'[1]Buyer_Detail_for_Sellers (2)'!K133","v":8000},"Y"]
["242","2G1WF5E39D1265057",2013,"CHEVROLET","IMPALA",98598,null,{"$f":"'[1]Buyer_Detail_for_Sellers (2)'!K134","v":6000},"Y"]
["243","1FM5K8AR7KGA94041",2019,"FORD","POL INTRCEPT",180611,null,{"$f":"'[1]Buyer_Detail_for_Sellers (2)'!K135","v":4800},"Y"]
["244","1FM5K8AR4KGA94045",2019,"FORD","POL INTRCEPT",182308,null,{"$f":"'[1]Buyer_Detail_for_Sellers (2)'!K136","v":5000},"Y"]
["245","1FM5K8AR6KGA94029",2019,"FORD","POL INTRCEPT",185469,null,{"$f":"'[1]Buyer_Detail_for_Sellers (2)'!K137","v":5400},"Y"]
["246","1FM5K8ARXKGA94082",2019,"FORD","POL INTRCEPT",181514,null,{"$f":"'[1]Buyer_Detail_for_Sellers (2)'!K138","v":5600},"Y"]
["247","1FM5K8AR1KGA94083",2019,"FORD","POL INTRCEPT",184603,null,{"$f":"'[1]Buyer_Detail_for_Sellers (2)'!K139","v":5200},"Y"]
["248","1FM5K8AR6KGA94077",2019,"FORD","POL INTRCEPT",185229,null,{"$f":"'[1]Buyer_Detail_for_Sellers (2)'!K140","v":5800},"Y"]
["300","1GDM7C1BX8F401297",2008,"GMC","C7C042",37038,null,{"$f":"'[1]Buyer_Detail_for_Sellers (2)'!K141","v":18400},"Y"]
["301","MD2JPC409MC034755",2021,"KTM","DUKE",2278,null,{"$f":"'[1]Buyer_Detail_for_Sellers (2)'!K142","v":1800},"Y"]
["302","JYARM32EXMA002131",2021,"YAMAHA","MT07",4540,null,{"$f":"'[1]Buyer_Detail_for_Sellers (2)'!K143","v":5400},"Y"]
["303","2C4RDGBG4DR813321",2013,"DODGE","CARAVAN",73983,null,{"$f":"'[1]Buyer_Detail_for_Sellers (2)'!K144","v":5100},"N"]
["304","2C4RDGBG5DR656222",2013,"DODGE","CARAVAN",74381,null,{"$f":"'[1]Buyer_Detail_for_Sellers (2)'!K145","v":4100},"Y"]
["305","2C4RDGBG9DR688543",2013,"DODGE","CARAVAN",76072,null,{"$f":"'[1]Buyer_Detail_for_Sellers (2)'!K146","v":5400},"Y"]
["306","2C4RDGBG5DR672176",2013,"DODGE","CARAVAN",79957,null,{"$f":"'[1]Buyer_Detail_for_Sellers (2)'!K147","v":6100},"N"]
["307","2C4RDGBG4ER264558",2014,"DODGE","CARAVAN",80144,null,{"$f":"'[1]Buyer_Detail_for_Sellers (2)'!K148","v":7900},"Y"]
["308","1FA6P0G75E5381532",2014,"FORD","FUSION",69799,"MBT",{"$f":"'[1]Buyer_Detail_for_Sellers (2)'!K149","v":4500},"Y"]
["309","3FA6P0G73DR275205",2013,"FORD","FUSION",90331,null,{"$f":"'[1]Buyer_Detail_for_Sellers (2)'!K150","v":7500},"Y"]
["310","3FA6P0G79ER339135",2014,"FORD","FUSION",90509,null,{"$f":"'[1]Buyer_Detail_for_Sellers (2)'!K151","v":6600},"Y"]
["311","1FA6P0G76E5381510",2014,"FORD","FUSION",91264,null,{"$f":"'[1]Buyer_Detail_for_Sellers (2)'!K152","v":7800},"Y"]
["312","3FA6P0G72DR280010",2013,"FORD","FUSION",91336,null,{"$f":"'[1]Buyer_Detail_for_Sellers (2)'!K153","v":7700},"Y"]
["313","3FA6P0G73DR249574",2013,"FORD","FUSION",93085,null,{"$f":"'[1]Buyer_Detail_for_Sellers (2)'!K154","v":7700},"Y"]
["314","1FA6P0G79E5381517",2014,"FORD","FUSION",93554,null,{"$f":"'[1]Buyer_Detail_for_Sellers (2)'!K155","v":7700},"Y"]
["315","1G1JC5SG3E4142788",2014,"CHEVROLET","SONIC",87511,null,{"$f":"'[1]Buyer_Detail_for_Sellers (2)'!K156","v":5100},"N"]
["316","3N1AB7AP6HY235980",2017,"NISSAN","SENTRA",94485,null,{"$f":"'[1]Buyer_Detail_for_Sellers (2)'!K157","v":5300},"N"]
["317","3FA6P0G71DR279981",2013,"FORD","FUSION",98559,null,{"$f":"'[1]Buyer_Detail_for_Sellers (2)'!K158","v":7500},"Y"]
["318","1FA6P0G76E5381507",2014,"FORD","FUSION",99099,null,{"$f":"'[1]Buyer_Detail_for_Sellers (2)'!K159","v":6100},"Y"]
["319","1FA6P0G78E5377197",2014,"FORD","FUSION",99529,null,{"$f":"'[1]Buyer_Detail_for_Sellers (2)'!K160","v":7100},"Y"]
["320","1FA6P0G7XE5377184",2014,"FORD","FUSION",99532,null,{"$f":"'[1]Buyer_Detail_for_Sellers (2)'!K161","v":6700},"Y"]
["321","1FA6P0G73E5377222",2014,"FORD","FUSION",99691,null,{"$f":"'[1]Buyer_Detail_for_Sellers (2)'!K162","v":7100},"Y"]
["322","3FA6P0G71ER339145",2014,"FORD","FUSION",101559,null,{"$f":"'[1]Buyer_Detail_for_Sellers (2)'!K163","v":6200},"Y"]
["325","4T1B11HK4JU642602",2018,"TOYOTA","CAMRY",89686,null,13400,"Y"]
["326","4T1BF1FK7GU549618",2016,"TOYOTA","CAMRY",92707,null,12100,"Y"]
["327","2G1WA5E37F1116759",2015,"CHEVROLET","IMPALA",120407,null,2100,"Y"]
["328","2G1WF5E33D1265264",2013,"CHEVROLET","IMPALA",103057,null,2500,"Y"]
["329","2G1WA5E39F1115192",2015,"CHEVROLET","IMPALA",99107,null,8000,"Y"]
["330","2G1WA5E31E1138366",2014,"CHEVROLET","IMPALA",109042,null,0]
["331","2G1WA5E35F1118610",2015,"CHEVROLET","IMPALA",81172,null,{"$f":"'[1]Buyer_Detail_for_Sellers (2)'!K171","v":8800},"Y"]
["332","2G1WA5E35F1119191",2015,"CHEVROLET","IMPALA",99768,null,{"$f":"'[1]Buyer_Detail_for_Sellers (2)'!K172","v":4400},"Y"]
["333","2G1WA5E3XF1130509",2015,"CHEVROLET","IMPALA",107757,null,{"$f":"'[1]Buyer_Detail_for_Sellers (2)'!K173","v":4600},"Y"]
["334","2G1WA5E35F1115285",2015,"CHEVROLET","IMPALA",99099,null,{"$f":"'[1]Buyer_Detail_for_Sellers (2)'!K174","v":7000},"Y"]
["335","2G1WA5E33F1129833",2015,"CHEVROLET","IMPALA",89253,null,{"$f":"'[1]Buyer_Detail_for_Sellers (2)'!K175","v":5200},"Y"]
["336","2G1WF5E31D1264467",2013,"CHEVROLET","IMPALA",116696,null,{"$f":"'[1]Buyer_Detail_for_Sellers (2)'!K176","v":4200},"Y"]
["337","1N4AL3APXJC253549",2018,"NISSAN","ALTIMA",70353,null,{"$f":"'[1]Buyer_Detail_for_Sellers (2)'!K177","v":11200},"Y"]
["338","1N4AL3AP8HC154948",2017,"NISSAN","ALTIMA",96482,null,{"$f":"'[1]Buyer_Detail_for_Sellers (2)'!K178","v":5500},"Y"]
["339","1N4AL3AP7JC236417",2018,"NISSAN","ALTIMA",105026,null,{"$f":"'[1]Buyer_Detail_for_Sellers (2)'!K179","v":8500},"Y"]
["340","1N4BL4BV8KC125268",2019,"NISSAN","ALTIMA",106121,null,{"$f":"'[1]Buyer_Detail_for_Sellers (2)'!K180","v":8900},"Y"]
["341","1C4PJMAB2HW587121",2017,"JEEP","CHEROKEE",90187,null,{"$f":"'[1]Buyer_Detail_for_Sellers (2)'!K181","v":11000},"Y"]
["342","1C4PJMAB2FW746930",2015,"JEEP","CHEROKEE",92692,null,{"$f":"'[1]Buyer_Detail_for_Sellers (2)'!K182","v":8900},"Y"]
["343","1C4PJMCB0JD581025",2018,"JEEP","CHEROKEE",96562,null,{"$f":"'[1]Buyer_Detail_for_Sellers (2)'!K183","v":10900},"Y"]
["344","1C4PJMCB1JD589571",2018,"JEEP","CHEROKEE",100974,null,{"$f":"'[1]Buyer_Detail_for_Sellers (2)'!K184","v":10900},"Y"]
["345","1C4PJMAB1GW314847",2016,"JEEP","CHEROKEE",107016,null,{"$f":"'[1]Buyer_Detail_for_Sellers (2)'!K185","v":8800},"Y"]
["346","1C4PJMAB7GW317669",2016,"JEEP","CHEROKEE",108655,null,{"$f":"'[1]Buyer_Detail_for_Sellers (2)'!K186","v":8100},"Y"]
["347","1G1PK5SB4E7467904",2014,"CHEVROLET","CRUZE",89800,null,{"$f":"'[1]Buyer_Detail_for_Sellers (2)'!K187","v":6100},"Y"]
["348","1G1PK5SBXE7465400",2014,"CHEVROLET","CRUZE",90626,null,{"$f":"'[1]Buyer_Detail_for_Sellers (2)'!K188","v":5700},"Y"]
["349","1G1PK5SB3E7466646",2014,"CHEVROLET","CRUZE",91487,null,{"$f":"'[1]Buyer_Detail_for_Sellers (2)'!K189","v":4900},"Y"]
["350","1G1PK5SB7E7469162",2014,"CHEVROLET","CRUZE",92006,null,{"$f":"'[1]Buyer_Detail_for_Sellers (2)'!K190","v":5700},"Y"]
["351","1G1PK5SB0E7464286",2014,"CHEVROLET","CRUZE",94001,null,{"$f":"'[1]Buyer_Detail_for_Sellers (2)'!K191","v":5600},"Y"]
["352","1G1PK5SB3E7467487",2014,"CHEVROLET","CRUZE",94187,null,{"$f":"'[1]Buyer_Detail_for_Sellers (2)'!K192","v":5600},"Y"]
["353","1FA6P0G71E5377848",2014,"FORD","FUSION",101806,null,{"$f":"'[1]Buyer_Detail_for_Sellers (2)'!K193","v":5400},"Y"]
["354","3FA6P0G7XER244230",2014,"FORD","FUSION",102435,null,{"$f":"'[1]Buyer_Detail_for_Sellers (2)'!K194","v":6300},"Y"]
["355","3FA6P0G70ER339136",2014,"FORD","FUSION",102547,null,{"$f":"'[1]Buyer_Detail_for_Sellers (2)'!K195","v":6100},"Y"]
["356","1FA6P0G76E5381541",2014,"FORD","FUSION",103282,null,{"$f":"'[1]Buyer_Detail_for_Sellers (2)'!K196","v":6200},"Y"]
["357","3FA6P0G78ER339112",2014,"FORD","FUSION",105054,null,{"$f":"'[1]Buyer_Detail_for_Sellers (2)'!K197","v":5500},"Y"]
["358","3FA6P0G75ER339097",2014,"FORD","FUSION",107136,null,{"$f":"'[1]Buyer_Detail_for_Sellers (2)'!K198","v":6100},"Y"]
["359","3FA6P0G75ER339150",2014,"FORD","FUSION",111241,null,{"$f":"'[1]Buyer_Detail_for_Sellers (2)'!K199","v":6100},"Y"]
["360","1FA6P0G72E5381522",2014,"FORD","FUSION",111377,null,{"$f":"'[1]Buyer_Detail_for_Sellers (2)'!K200","v":6000},"Y"]
["361","3FA6P0G73DR279982",2013,"FORD","FUSION",112039,null,{"$f":"'[1]Buyer_Detail_for_Sellers (2)'!K201","v":6000},"Y"]
["362","3FA6P0G72DR249565",2013,"FORD","FUSION",114919,null,{"$f":"'[1]Buyer_Detail_for_Sellers (2)'!K202","v":5500},"Y"]
["363","5FNYF3H77BB012218",2011,"HONDA","PILOT",149101,"A.G. SEIZED UNIT",{"$f":"'[1]Buyer_Detail_for_Sellers (2)'!K203","v":4000},"Y"]
["364","2GNALBEK9D6360275",2013,"CHEVROLET","EQUINOX",108433,null,{"$f":"'[1]Buyer_Detail_for_Sellers (2)'!K204","v":4200},"Y"]
["365","2GNFLEEK0F6359090",2015,"CHEVROLET","EQUINOX",123427,null,{"$f":"'[1]Buyer_Detail_for_Sellers (2)'!K205","v":6100},"Y"]
["366","1FMJU1G59EEF31607",2014,"FORD","EXPEDITION",129036,null,{"$f":"'[1]Buyer_Detail_for_Sellers (2)'!K206","v":1600},"N"]
["367","1FMJU1G5XEEF31602",2014,"FORD","EXPEDITION",107313,null,0]
["368","1FMJU1G51EEF31603",2014,"FORD","EXPEDITION",109183,null,1400,"Y"]
["369","1FMJU1G5XEEF30532",2014,"FORD","EXPEDITION",111050,null,0]
["370","1FM5K8B86HGC14443",2017,"FORD","EXPLORER",117516,null,0]
["371","KMHD04LB7HU334340",2017,"HYUNDAI","ELANTRA",142763,"A.G. SEIZED UNIT",{"$f":"'[1]Buyer_Detail_for_Sellers (2)'!K208","v":1900},"Y"]
["372","1G1ZC5ST6JF279450",2018,"CHEVROLET","MALIBU",99128,null,{"$f":"'[1]Buyer_Detail_for_Sellers (2)'!K209","v":9700},"Y"]
["373","1G1ZC5ST8KF175270",2019,"CHEVROLET","MALIBU",99552,null,{"$f":"'[1]Buyer_Detail_for_Sellers (2)'!K210","v":10300},"Y"]
["374","1G1ZA5EU6CF395096",2012,"CHEVROLET","MALIBU",99562,null,{"$f":"'[1]Buyer_Detail_for_Sellers (2)'!K211","v":4300},"Y"]
["375","1G1ZA5EU0CF395174",2012,"CHEVROLET","MALIBU",100531,null,{"$f":"'[1]Buyer_Detail_for_Sellers (2)'!K212","v":4300},"Y"]
["376","1G11C5SA6GF151892",2016,"CHEVROLET","MALIBU",102673,null,{"$f":"'[1]Buyer_Detail_for_Sellers (2)'!K213","v":6800},"Y"]
["377","1G1ZC5ST4HF226188",2017,"CHEVROLET","MALIBU",103271,null,{"$f":"'[1]Buyer_Detail_for_Sellers (2)'!K214","v":7500},"Y"]
["378","1G1ZA5EU4CF396389",2012,"CHEVROLET","MALIBU",103577,null,{"$f":"'[1]Buyer_Detail_for_Sellers (2)'!K215","v":4700},"Y"]
["379","1G11A5SL5FF307751",2015,"CHEVROLET","MALIBU",103613,null,{"$f":"'[1]Buyer_Detail_for_Sellers (2)'!K216","v":7100},"Y"]
["380","1C3CCCFB0GN183996",2016,"CHRYSLER","200",103533,null,{"$f":"'[1]Buyer_Detail_for_Sellers (2)'!K217","v":7700},"Y"]
["381","1N4AL3AP3DC267717",2013,"NISSAN","ALTIMA",150031,null,{"$f":"'[1]Buyer_Detail_for_Sellers (2)'!K218","v":3100},"Y"]
["382","1N4AL3AP0EC417042",2014,"NISSAN","ALTIMA",178256,null,{"$f":"'[1]Buyer_Detail_for_Sellers (2)'!K219","v":3300},"Y"]
["383","1N4AL3AP7DC260740",2013,"NISSAN","ALTIMA",194836,null,{"$f":"'[1]Buyer_Detail_for_Sellers (2)'!K220","v":2900},"Y"]
["384","4T1B11HK5JU109223",2018,"TOYOTA","CAMRY",106577,"MBT",{"$f":"'[1]Buyer_Detail_for_Sellers (2)'!K221","v":8400},"N"]
["385","4T1BF1FK2HU301875",2017,"TOYOTA","CAMRY",109458,null,{"$f":"'[1]Buyer_Detail_for_Sellers (2)'!K222","v":11000},"Y"]
["386","4T1BF1FK1HU342384",2017,"TOYOTA","CAMRY",109663,null,{"$f":"'[1]Buyer_Detail_for_Sellers (2)'!K223","v":10800},"Y"]
["387","3FAHP0GA7CR440871",2012,"FORD","FUSION",53810,null,{"$f":"'[1]Buyer_Detail_for_Sellers (2)'!K224","v":5400},"Y"]
["388","3FAHP0GA9CR449913",2012,"FORD","FUSION",90572,null,{"$f":"'[1]Buyer_Detail_for_Sellers (2)'!K225","v":5000},"Y"]
["389","3FAHP0GA2CR350883",2012,"FORD","FUSION",91537,null,{"$f":"'[1]Buyer_Detail_for_Sellers (2)'!K226","v":5400},"Y"]
["390","3FAHP0GA4CR350884",2012,"FORD","FUSION",93221,null,{"$f":"'[1]Buyer_Detail_for_Sellers (2)'!K227","v":5200},"Y"]
["391","3FAHP0GAXCR440881",2012,"FORD","FUSION",96024,null,{"$f":"'[1]Buyer_Detail_for_Sellers (2)'!K228","v":4800},"Y"]
["392","3FAHP0GA2CR449963",2012,"FORD","FUSION",97809,null,{"$f":"'[1]Buyer_Detail_for_Sellers (2)'!K229","v":4000},"N"]
["393","3FAHP0GA0CR449931",2012,"FORD","FUSION",100276,null,{"$f":"'[1]Buyer_Detail_for_Sellers (2)'!K230","v":6000},"Y"]
["394","3FAHP0GAXCR350887",2012,"FORD","FUSION",102213,null,{"$f":"'[1]Buyer_Detail_for_Sellers (2)'!K231","v":2400},"Y"]
["395","3FA6P0G71DR275204",2013,"FORD","FUSION",117392,null,{"$f":"'[1]Buyer_Detail_for_Sellers (2)'!K232","v":5600},"Y"]
["396","1FA6P0G77E5377207",2014,"FORD","FUSION",117411,null,{"$f":"'[1]Buyer_Detail_for_Sellers (2)'!K233","v":3400},"Y"]
["397","3FAHP0GA8CR440863",2012,"FORD","FUSION",124777,null,0]
["398","3FA6P0G77ER277931",2014,"FORD","FUSION",182895,null,{"$f":"'[1]Buyer_Detail_for_Sellers (2)'!K234","v":2900},"Y"]
["399","1G1PK5SB8E7468635",2014,"CHEVROLET","CRUZE",96706,null,{"$f":"'[1]Buyer_Detail_for_Sellers (2)'!K235","v":4600},"N"]
["400","1G1PK5SB7E7464317",2014,"CHEVROLET","CRUZE",100416,null,{"$f":"'[1]Buyer_Detail_for_Sellers (2)'!K236","v":4200},"Y"]
["401","1G1PK5SB4E7466879",2014,"CHEVROLET","CRUZE",104325,null,{"$f":"'[1]Buyer_Detail_for_Sellers (2)'!K237","v":4800},"Y"]
["402","1G1PK5SBXE7468605",2014,"CHEVROLET","CRUZE",112324,null,{"$f":"'[1]Buyer_Detail_for_Sellers (2)'!K238","v":5000},"Y"]
["403","1G1PK5SB0E7466281",2014,"CHEVROLET","CRUZE",113089,null,{"$f":"'[1]Buyer_Detail_for_Sellers (2)'!K239","v":4300},"Y"]
["404","1G1ZC5ST2JF191379",2018,"CHEVROLET","MALIBU",133836,null,{"$f":"'[1]Buyer_Detail_for_Sellers (2)'!K240","v":6100},"Y"]
["405","1G1ZC5ST6HF224023",2017,"CHEVROLET","MALIBU",134990,null,{"$f":"'[1]Buyer_Detail_for_Sellers (2)'!K241","v":6000},"Y"]
["406","1G1ZK57709F171075",2009,"CHEVROLET","MALIBU",136001,null,{"$f":"'[1]Buyer_Detail_for_Sellers (2)'!K242","v":3000},"Y"]
["407","1G11A5SLXFF294186",2015,"CHEVROLET","MALIBU",178384,null,{"$f":"'[1]Buyer_Detail_for_Sellers (2)'!K243","v":3200},"Y"]
["409","1G11C5SA6GF159989",2016,"CHEVROLET","MALIBU",106026,null,7400,"Y"]
["410","1G1ZC5ST9JF140204",2018,"CHEVROLET","MALIBU",108137,null,8100,"Y"]
["411","1G1ZC5ST9JF286893",2018,"CHEVROLET","MALIBU",113191,null,6200,"Y"]
["412","1G1ZC5ST1JF137927",2018,"CHEVROLET","MALIBU",113291,null,5400,"Y"]
["413","1G11C5SA7GF143543",2016,"CHEVROLET","MALIBU",114867,null,4600,"N"]
["414","1G1ZA5EU5CF395896",2012,"CHEVROLET","MALIBU",126777,null,2300,"Y"]
["415","4S3BMBA60D3048646",2013,"SUBARU","LEGACY",119763,null,5000,"Y"]
["416","4S3BMBA63E3031602",2014,"SUBARU","LEGACY",180877,null,3600,"Y"]
["417","2C4RDGBG1HR839039",2017,"DODGE","CARAVAN",105640,"MBT",6100,"Y"]
["418","2C4RDGBGXJR177502",2018,"DODGE","CARAVAN",107166,null,10100,"Y"]
["419","2C4RDGBG4KR504820",2019,"DODGE","CARAVAN",121512,null,9800,"N"]
["420","1N4AL3AP1HC169338",2017,"NISSAN","ALTIMA",106434,null,7100,"Y"]
["421","1N4AL3AP7HC115123",2017,"NISSAN","ALTIMA",120449,null,7600,"N"]
["422","1N4AL2AP5BC155119",2011,"NISSAN","ALTIMA",125354,null,2800,"N"]
["500","1FM5K8B82FGB61933",2015,"FORD","EXPLORER",118907,null,0]
["501","1FM5K8B87EGA38594",2014,"FORD","EXPLORER",124044,null,0]
["502","1FM5K8B84DGA94085",2013,"FORD","EXPLORER",128407,null,{"$f":"'[1]Buyer_Detail_for_Sellers (2)'!K259","v":4500},"N"]
["503","1FM5K8B87FGA41772",2015,"FORD","EXPLORER",137401,null,{"$f":"'[1]Buyer_Detail_for_Sellers (2)'!K260","v":5500},"N"]
["504","1FM5K8B84FGC41377",2015,"FORD","EXPLORER",140021,null,{"$f":"'[1]Buyer_Detail_for_Sellers (2)'!K261","v":6200},"Y"]
["505","1FMJU1G53EEF31604",2014,"FORD","EXPEDITION",159701,null,0]
["506","4T1BF1FK5HU723042",2017,"TOYOTA","CAMRY",92730,null,{"$f":"'[1]Buyer_Detail_for_Sellers (2)'!K262","v":12000},"Y"]
["507","4T1B11HKXJU091172",2018,"TOYOTA","CAMRY",94726,null,{"$f":"'[1]Buyer_Detail_for_Sellers (2)'!K263","v":13000},"Y"]
["508","2C4RDGBG0DR695395",2013,"DODGE","CARAVAN",89683,null,{"$f":"'[1]Buyer_Detail_for_Sellers (2)'!K264","v":5700},"Y"]
["509","2C4RDGBG7HR637550",2017,"DODGE","CARAVAN",94147,null,0]
["510","1C4RDJAG7GC477529",2016,"DODGE","DURANGO",135931,null,0]
["511","1C4RDJAG0GC475427",2016,"DODGE","DURANGO",158242,null,{"$f":"'[1]Buyer_Detail_for_Sellers (2)'!K265","v":5000},"Y"]
["512","1C4RDJFG3FC121148",2015,"DODGE","DURANGO",132951,null,{"$f":"'[1]Buyer_Detail_for_Sellers (2)'!K266","v":6100},"Y"]
["513","1FAHP2D81HG111174",2017,"FORD","TAURUS",95399,null,{"$f":"'[1]Buyer_Detail_for_Sellers (2)'!K267","v":8500},"Y"]
["514","1FAHP2D80HG111148",2017,"FORD","TAURUS",98311,null,{"$f":"'[1]Buyer_Detail_for_Sellers (2)'!K268","v":8700},"Y"]
["515","1FAHP2D85HG126650",2017,"FORD","TAURUS",93590,null,{"$f":"'[1]Buyer_Detail_for_Sellers (2)'!K269","v":8800},"Y"]
["516","1FAHP2D81HG126659",2017,"FORD","TAURUS",90602,null,{"$f":"'[1]Buyer_Detail_for_Sellers (2)'!K270","v":9000},"Y"]
["517","1FAHP2D82HG126654",2017,"FORD","TAURUS",104527,null,{"$f":"'[1]Buyer_Detail_for_Sellers (2)'!K271","v":8800},"Y"]
["518","5N1AT2MV8KC822734",2019,"NISSAN","ROGUE",113053,null,{"$f":"'[1]Buyer_Detail_for_Sellers (2)'!K272","v":10000},"N"]
["519","5N1AT2MV7JC745322",2018,"NISSAN","ROGUE",121103,null,{"$f":"'[1]Buyer_Detail_for_Sellers (2)'!K273","v":8400},"Y"]
["520","1FAHP2D86HG111171",2017,"FORD","TAURUS",93800,null,0]
["521","1FAHP2D82HG145382",2017,"FORD","TAURUS",91490,null,{"$f":"'[1]Buyer_Detail_for_Sellers (2)'!K274","v":8400},"Y"]
["522","1FAHP2D86HG145384",2017,"FORD","TAURUS",99790,null,0]
["523","1FAHP2D84HG111136",2017,"FORD","TAURUS",100941,null,0]
["524","1FAHP2H84JG117812",2018,"FORD","TAURUS",183595,null,{"$f":"'[1]Buyer_Detail_for_Sellers (2)'!K275","v":4900},"Y"]
["525","1FTEW1EBXKKD16663",2019,"FORD","F150",138465,null,{"$f":"'[1]Buyer_Detail_for_Sellers (2)'!K276","v":12100},"Y"]
["526","1FTFW1E55JFD96928",2018,"FORD","F150",87612,null,0]
["527","1FTFW1E58JFD96910",2018,"FORD","F150",119456,null,0]
["528","1FTEX1EB6JFD87492",2018,"FORD","F150",141114,null,{"$f":"'[1]Buyer_Detail_for_Sellers (2)'!K277","v":11300},"N"]
["529","3GCUYAEF8KG166200",2019,"CHEVROLET","SILVER 1500",120633,null,{"$f":"'[1]Buyer_Detail_for_Sellers (2)'!K278","v":15300},"Y"]
["530","1GCVKNEHXJZ336148",2018,"CHEVROLET","K1500",97969,null,{"$f":"'[1]Buyer_Detail_for_Sellers (2)'!K279","v":14000},"Y"]
["531","1GCVKNEH4JZ339515",2018,"CHEVROLET","K1500",106252,null,0]
["532","3GCUKNEC1JG239002",2018,"CHEVROLET","K1500",119294,null,{"$f":"'[1]Buyer_Detail_for_Sellers (2)'!K280","v":15000},"Y"]
["533","1GCVKNEH3JZ341563",2018,"CHEVROLET","K1500",102367,null,{"$f":"'[1]Buyer_Detail_for_Sellers (2)'!K281","v":13600},"Y"]
["534","1C4PJMAB7HW582058",2017,"JEEP","CHEROKEE",110793,null,{"$f":"'[1]Buyer_Detail_for_Sellers (2)'!K282","v":6000},"Y"]
["535","1C4PJMAB5GW344658",2016,"JEEP","CHEROKEE",111624,null,{"$f":"'[1]Buyer_Detail_for_Sellers (2)'!K283","v":6000},"Y"]
["536","1C4PJMCB1JD581020",2018,"JEEP","CHEROKEE",111681,null,{"$f":"'[1]Buyer_Detail_for_Sellers (2)'!K284","v":9000},"Y"]
["537","1C4PJMCB3JD581021",2018,"JEEP","CHEROKEE",112314,null,{"$f":"'[1]Buyer_Detail_for_Sellers (2)'!K285","v":9000},"Y"]
["538","1C4PJMCB0JD589559",2018,"JEEP","CHEROKEE",90061,null,{"$f":"'[1]Buyer_Detail_for_Sellers (2)'!K286","v":11100},"Y"]
["539","1FTEX1E87GFD00499",2016,"FORD","F150",100416,null,{"$f":"'[1]Buyer_Detail_for_Sellers (2)'!K287","v":14600},"Y"]
["540","1FTEX1E81GFD00501",2016,"FORD","F150",103936,null,{"$f":"'[1]Buyer_Detail_for_Sellers (2)'!K288","v":13200},"Y"]
["541","1FTEX1E82GFC00892",2016,"FORD","F150",105391,null,{"$f":"'[1]Buyer_Detail_for_Sellers (2)'!K289","v":13800},"N"]
["542","1FTEX1E84GFC00893",2016,"FORD","F150",120499,null,0]
["543","1FTEX1E80GFC00891",2016,"FORD","F150",136877,null,{"$f":"'[1]Buyer_Detail_for_Sellers (2)'!K290","v":12400},"Y"]
["544","1FTEX1E86GFC00894",2016,"FORD","F150",131377,null,{"$f":"'[1]Buyer_Detail_for_Sellers (2)'!K291","v":8800},"Y"]
["545","1FDWF37L13ED34809",2003,"FORD","F350",105725,null,{"$f":"'[1]Buyer_Detail_for_Sellers (2)'!K292","v":13200},"Y"]
["546","1FDSF35L94EC41779",2004,"FORD","F350",124577,null,{"$f":"'[1]Buyer_Detail_for_Sellers (2)'!K293","v":3300},"Y"]
["547","1FTWF33S71EC39041",2001,"FORD","F350",60191,null,{"$f":"'[1]Buyer_Detail_for_Sellers (2)'!K294","v":5200},"Y"]
["552","1GCVKNEH5GZ389610",2016,"CHEVROLET","SILVER K1500",91470,null,10000,"Y"]
["553","1GCVKNEH4GZ397097",2016,"CHEVROLET","SILVER K1500",118994,null,9000,"Y"]
["554","1GCVKNEH4GZ396161",2016,"CHEVROLET","SILVER K1500",117732,null,13800,"Y"]
["555","1GTR2TEA5CZ284343",2012,"GMC","SIERRA 1500",177683,null,{"$f":"'[1]Buyer_Detail_for_Sellers (2)'!K298","v":3200},"Y"]
["556","1GTR2TE72DZ336629",2013,"GMC","SIERRA 1500",126604,null,0]
["557","3GCUKPEC3FG349293",2015,"CHEVROLET","K1500",116956,"MBT",0]
["558","1C4PJMAB1GW314850",2016,"JEEP","CHEROKEE",115091,null,{"$f":"'[1]Buyer_Detail_for_Sellers (2)'!K303","v":6800},"Y"]
["559","1C4PJMCBXJD564846",2018,"JEEP","CHEROKEE",116234,null,{"$f":"'[1]Buyer_Detail_for_Sellers (2)'!K304","v":9500},"Y"]
["560","1C4PJMAB5HW582060",2017,"JEEP","CHEROKEE",116662,null,{"$f":"'[1]Buyer_Detail_for_Sellers (2)'!K305","v":6600},"Y"]
["561","1C4PJMCBXJD589570",2018,"JEEP","CHEROKEE",117161,null,{"$f":"'[1]Buyer_Detail_for_Sellers (2)'!K306","v":10200},"Y"]
["562","1C4PJMCB9JD589558",2018,"JEEP","CHEROKEE",117802,null,{"$f":"'[1]Buyer_Detail_for_Sellers (2)'!K307","v":9400},"Y"]
["563","1FTEX1E86FFA31118",2015,"FORD","F150",138774,null,{"$f":"'[1]Buyer_Detail_for_Sellers (2)'!K308","v":9200},"Y"]
["564","1FTEX1E89FFA31128",2015,"FORD","F150",87910,null,{"$f":"'[1]Buyer_Detail_for_Sellers (2)'!K309","v":14800},"Y"]
["565","1FTEX1E84FFB01103",2015,"FORD","F150",138004,null,{"$f":"'[1]Buyer_Detail_for_Sellers (2)'!K310","v":7800},"Y"]
["566","1FTEX1E84FFB01098",2015,"FORD","F150",141708,null,{"$f":"'[1]Buyer_Detail_for_Sellers (2)'!K311","v":7000},"Y"]
["567","1FTEX1E89FFB63211",2015,"FORD","F150",125318,null,{"$f":"'[1]Buyer_Detail_for_Sellers (2)'!K312","v":9700},"Y"]
["568","1FTEX1E89FFB01095",2015,"FORD","F150",114585,null,0]
["569","1FTEX1E80FFB63212",2015,"FORD","F150",101257,null,{"$f":"'[1]Buyer_Detail_for_Sellers (2)'!K313","v":11600},"Y"]
["570","1FTEX1E89FFB01100",2015,"FORD","F150",136444,null,{"$f":"'[1]Buyer_Detail_for_Sellers (2)'!K314","v":8000},"Y"]
["571","1FTEX1E83FFA60849",2015,"FORD","F150",173230,null,{"$f":"'[1]Buyer_Detail_for_Sellers (2)'!K315","v":8200},"Y"]
["572","1FTEX1E86FFB01099",2015,"FORD","F150",194753,null,{"$f":"'[1]Buyer_Detail_for_Sellers (2)'!K316","v":5800},"N"]
["573","1GC4KZCG0CF180252",2012,"CHEVROLET","K3500",null,null,0]
["574","1GAZGNFF8H1160007",2017,"CHEVROLET","EXPRESS 3500",126348,null,{"$f":"'[1]Buyer_Detail_for_Sellers (2)'!K317","v":19500},"Y"]
["575","1GAZGNFF9H1320945",2017,"CHEVROLET","EXPRESS 3500",201060,null,{"$f":"'[1]Buyer_Detail_for_Sellers (2)'!K318","v":9000},"Y"]
["576","1FT7X2B63EEA26898",2014,"FORD","F250",null,null,0]
["577","1FTBF2B6XFEB12580",2015,"FORD","F250",null,null,0]
["578","1FTBF2B61FEB12581",2015,"FORD","F250",null,null,0]
["580","1C4RJFAG9HC832725",2017,"JEEP","CHEROKEE",{"$f":"'[1]Buyer_Detail_for_Sellers (2)'!H319","v":111404},null,{"$f":"'[1]Buyer_Detail_for_Sellers (2)'!K319","v":9500},"Y"]
["581","1C4RJFAG0EC199026",2014,"JEEP","CHEROKEE",{"$f":"'[1]Buyer_Detail_for_Sellers (2)'!H320","v":131970},null,{"$f":"'[1]Buyer_Detail_for_Sellers (2)'!K320","v":6400},"Y"]
["582","1C4RJFAG8FC761644",2015,"JEEP","CHEROKEE",{"$f":"'[1]Buyer_Detail_for_Sellers (2)'!H321","v":96317},null,{"$f":"'[1]Buyer_Detail_for_Sellers (2)'!K321","v":12400},"Y"]
["583","1GNSK2E01DR303319",2013,"CHEVROLET","TAHOE",{"$f":"'[1]Buyer_Detail_for_Sellers (2)'!H322","v":147736},null,{"$f":"'[1]Buyer_Detail_for_Sellers (2)'!K322","v":4400},"Y"]
["584","1GNKVFKD4GJ308488",2016,"CHEVROLET","TRAVERSE",{"$f":"'[1]Buyer_Detail_for_Sellers (2)'!H323","v":99974},null,{"$f":"'[1]Buyer_Detail_for_Sellers (2)'!K323","v":5600},"Y"]
["586","1FTPX14535NB66805",2005,"FORD","F150",130024,null,3600,"Y"]
["587","1FTFX1EV3AFC72105",2010,"FORD","F150",98391,null,3200,"Y"]
["588","1FTFX1ET3DKF15714",2013,"FORD","F150",95699,null,5600,"Y"]
[589,"1FTFX1ETXDKF15712",2013,"FORD","F150",150976,null,4000,"Y"]
["590","1FTMF1EM9DKE77750",2013,"FORD","F150",114945,null,3600,"Y"]
["591","1FTEX1EM9DKF48902",2013,"FORD","F150",104765,null,11000,"Y"]
["593","3GCUKPEC4FG345754",2015,"CHEVROLET","K1500",109676,"MBT",{"$f":"'[1]Buyer_Detail_for_Sellers (2)'!K331","v":7000},"Y"]
["594","1C6RR7XT8GS137179",2016,"DODGE","RAM 1500 PU",127762,null,{"$f":"'[1]Buyer_Detail_for_Sellers (2)'!K332","v":9400},"Y"]
["595","1GCVKNEH3GZ390447",2016,"CHEVROLET","SILVER K1500",84941,null,{"$f":"'[1]Buyer_Detail_for_Sellers (2)'!K333","v":11800},"Y"]
["596","1GCVKNEH2GZ396255",2016,"CHEVROLET","SILVER K1500",128584,null,{"$f":"'[1]Buyer_Detail_for_Sellers (2)'!K334","v":14000},"Y"]
["597","1GCVKNEH4GZ396144",2016,"CHEVROLET","SILVER K1500",143980,null,{"$f":"'[1]Buyer_Detail_for_Sellers (2)'!K335","v":12400},"Y"]
["598","1C4PJMAB3GW314851",2016,"JEEP","CHEROKEE",119458,null,{"$f":"'[1]Buyer_Detail_for_Sellers (2)'!K336","v":6000},"Y"]
["599","1C4RJFAG1HC832718",2017,"JEEP","CHEROKEE",149979,null,{"$f":"'[1]Buyer_Detail_for_Sellers (2)'!K337","v":10000},"Y"]
["602","1FTSS3EL6DDA07850",2013,"FORD","E350",null,null,0]
["603","1FTSS3ESXBDA23876",2011,"FORD","E350",null,null,0]
["604","1GTW7FCA6B1133078",2011,"GMC","SAVANA 2500",{"$f":"'[1]Buyer_Detail_for_Sellers (2)'!H339","v":52264},null,{"$f":"'[1]Buyer_Detail_for_Sellers (2)'!K339","v":16100},"Y"]
["605","1GTW7FCA3B1130171",2011,"GMC","SAVANA 2500",{"$f":"'[1]Buyer_Detail_for_Sellers (2)'!H340","v":56016},null,{"$f":"'[1]Buyer_Detail_for_Sellers (2)'!K340","v":15600},"Y"]
["606","1GTW7FCA6B1135252",2011,"GMC","SAVANA 2500",{"$f":"'[1]Buyer_Detail_for_Sellers (2)'!H341","v":42498},null,{"$f":"'[1]Buyer_Detail_for_Sellers (2)'!K341","v":15800},"Y"]
["607","1FTFX1ET1EKE65865",2014,"FORD","F150",null,null,0]
["608","1FTEX1EM0EFB49953",2014,"FORD","F150",null,null,0]
["609","1FTFX1EF4EKD69500",2014,"FORD","F150",{"$f":"'[1]Buyer_Detail_for_Sellers (2)'!H342","v":108678},null,{"$f":"'[1]Buyer_Detail_for_Sellers (2)'!K342","v":8900},"Y"]
["610","1FTFX1ET2EKE65860",2014,"FORD","F150",{"$f":"'[1]Buyer_Detail_for_Sellers (2)'!H343","v":150719},null,{"$f":"'[1]Buyer_Detail_for_Sellers (2)'!K343","v":6400},"Y"]
["611","1FTFX1EF1EKE92591",2014,"FORD","F150",{"$f":"'[1]Buyer_Detail_for_Sellers (2)'!H344","v":105713},null,{"$f":"'[1]Buyer_Detail_for_Sellers (2)'!K344","v":5000},"Y"]
["612","1FTEX1EM4EFB62964",2014,"FORD","F150",null,null,0]
["613","1FTEX1EM7EFB49951",2014,"FORD","F150",{"$f":"'[1]Buyer_Detail_for_Sellers (2)'!$H$345","v":159596},null,{"$f":"'[1]Buyer_Detail_for_Sellers (2)'!K345","v":5200},"Y"]
["614","1GCHTCFE1C8129398",2012,"CHEVROLET","COLORADO",null,null,0]
["615","1D7RW2GK7AS264501",2010,"DODGE","DAKOTA 1500",{"$f":"'[1]Buyer_Detail_for_Sellers (2)'!H346","v":135330},null,{"$f":"'[1]Buyer_Detail_for_Sellers (2)'!K346","v":3800},"N"]
["616","1D7RW2GKXAS264959",2010,"DODGE","DAKOTA 1500",{"$f":"'[1]Buyer_Detail_for_Sellers (2)'!H347","v":98941},null,{"$f":"'[1]Buyer_Detail_for_Sellers (2)'!K347","v":3200},"Y"]
["617","1FDSF35536EA49228",2006,"FORD","F350",{"$f":"'[1]Buyer_Detail_for_Sellers (2)'!H348","v":132610},null,{"$f":"'[1]Buyer_Detail_for_Sellers (2)'!K348","v":2600},"Y"]
["618","1FTWX31598EE30366",2008,"FORD","F350",{"$f":"'[1]Buyer_Detail_for_Sellers (2)'!H349","v":151174},null,{"$f":"'[1]Buyer_Detail_for_Sellers (2)'!K349","v":3800},"N"]
["619","1FT8W3B61EEA43387",2014,"FORD","F350",{"$f":"'[1]Buyer_Detail_for_Sellers (2)'!H350","v":211441},null,{"$f":"'[1]Buyer_Detail_for_Sellers (2)'!K350","v":16200},"Y"]
["620","1FTSW30L5XEA84705",1999,"FORD","F350",{"$f":"'[1]Buyer_Detail_for_Sellers (2)'!H351","v":64457},null,{"$f":"'[1]Buyer_Detail_for_Sellers (2)'!K351","v":3200},"Y"]
["621","1C4RJFAGXHC723593",2017,"JEEP","CHEROKEE",null,null,0]
["622","1C4RJFAG6KC667370",2019,"JEEP","GRD CHEROKEE",null,null,0]
["623","1GTW7FCA6B1135977",2011,"GMC","SAVANA 2500",{"$f":"'[1]Buyer_Detail_for_Sellers (2)'!H352","v":71677},null,10800,"Y"]
["625","1GTZ7TCG0B1143895",2011,"GMC","SAVANA 3500",{"$f":"'[1]Buyer_Detail_for_Sellers (2)'!H353","v":180127},null,{"$f":"'[1]Buyer_Detail_for_Sellers (2)'!K354","v":14800},"Y"]
["626","1C4RJFAG6FC882544",2015,"JEEP","CHEROKEE"]
["900","1FM5K8AB8MGB96535",2021,"FORD","POL INTRCEPT",{"$f":"'[1]Buyer_Detail_for_Sellers (2)'!H355","v":4163},"MBT",{"$f":"'[1]Buyer_Detail_for_Sellers (2)'!K355","v":2200},"Y"]
["901","1FM5K8AB5LGC95036",2020,"FORD","POL INTRCEPT",{"$f":"'[1]Buyer_Detail_for_Sellers (2)'!H356","v":42546},null,{"$f":"'[1]Buyer_Detail_for_Sellers (2)'!K356","v":3200},"Y"]
["902","1FM5K8AB2LGC95074",2020,"FORD","POL INTRCEPT",{"$f":"'[1]Buyer_Detail_for_Sellers (2)'!H357","v":999999},null,{"$f":"'[1]Buyer_Detail_for_Sellers (2)'!K357","v":1200},"Y"]
["903","1FMSK8BB0LGA72047",2020,"FORD","EXPLORER",{"$f":"'[1]Buyer_Detail_for_Sellers (2)'!H358","v":67518},"MBT",{"$f":"'[1]Buyer_Detail_for_Sellers (2)'!K358","v":8000},"Y"]
["904","1G1ZC5ST4KF174259",2019,"CHEVROLET","MALIBU",{"$f":"'[1]Buyer_Detail_for_Sellers (2)'!H359","v":16469},"MBT",{"$f":"'[1]Buyer_Detail_for_Sellers (2)'!K359","v":2600},"Y"]
["905","1FM5K8AR5KGA94099",2019,"FORD","POL INTRCEPT",{"$f":"'[1]Buyer_Detail_for_Sellers (2)'!H360","v":151438},"MBT",{"$f":"'[1]Buyer_Detail_for_Sellers (2)'!K360","v":2800},"Y"]
["906","1FM5K8ARXKGA94020",2019,"FORD","POL INTRCEPT",{"$f":"'[1]Buyer_Detail_for_Sellers (2)'!H361","v":143566},null,{"$f":"'[1]Buyer_Detail_for_Sellers (2)'!K361","v":2800},"Y"]
["907","1FM5K8AR9KGA93926",2019,"FORD","POL INTRCEPT",{"$f":"'[1]Buyer_Detail_for_Sellers (2)'!H362","v":118863},null,{"$f":"'[1]Buyer_Detail_for_Sellers (2)'!K362","v":1400},"Y"]
["908","1FM5K8AR9KGA93957",2019,"FORD","POL INTRCEPT",{"$f":"'[1]Buyer_Detail_for_Sellers (2)'!H363","v":145997},null,{"$f":"'[1]Buyer_Detail_for_Sellers (2)'!K363","v":2400},"Y"]
["909","2G11X5S31K9159681",2019,"CHEVROLET","IMPALA",{"$f":"'[1]Buyer_Detail_for_Sellers (2)'!H364","v":55758},null,{"$f":"'[1]Buyer_Detail_for_Sellers (2)'!K364","v":600},"Y"]
["910","1G11X5S38JU119650",2018,"CHEVROLET","IMPALA",{"$f":"'[1]Buyer_Detail_for_Sellers (2)'!H365","v":47473},null,{"$f":"'[1]Buyer_Detail_for_Sellers (2)'!K365","v":5400},"Y"]
["911","1FTEX1EB2JKC97540",2018,"FORD","F150",{"$f":"'[1]Buyer_Detail_for_Sellers (2)'!H366","v":136651},null,{"$f":"'[1]Buyer_Detail_for_Sellers (2)'!K366","v":9000},"Y"]
["912","1GCGTBEN5J1180643",2018,"CHEVROLET","COLORADO",{"$f":"'[1]Buyer_Detail_for_Sellers (2)'!H367","v":59763},null,{"$f":"'[1]Buyer_Detail_for_Sellers (2)'!K367","v":7000},"N"]
["913","1N4AL3AP4JC234401",2018,"NISSAN","ALTIMA",{"$f":"'[1]Buyer_Detail_for_Sellers (2)'!H368","v":109313},null,{"$f":"'[1]Buyer_Detail_for_Sellers (2)'!K368","v":1100},"Y"]
["914","1FM5K8AR2HGE14343",2017,"FORD","POL INTRCEPT",{"$f":"'[1]Buyer_Detail_for_Sellers (2)'!H369","v":999999},null,{"$f":"'[1]Buyer_Detail_for_Sellers (2)'!K369","v":500},"Y"]
["915","1FM5K8AR3HGC72181",2017,"FORD","POL INTRCEPT",{"$f":"'[1]Buyer_Detail_for_Sellers (2)'!H370","v":106545},null,{"$f":"'[1]Buyer_Detail_for_Sellers (2)'!K370","v":1200},"Y"]
["916","1FM5K8AR6HGD25276",2017,"FORD","POL INTRCEPT",{"$f":"'[1]Buyer_Detail_for_Sellers (2)'!H371","v":999999},null,{"$f":"'[1]Buyer_Detail_for_Sellers (2)'!K371","v":550},"Y"]
["917","1FM5K8AR2HGE14360",2017,"FORD","POL INTRCEPT",{"$f":"'[1]Buyer_Detail_for_Sellers (2)'!H372","v":158573},"MBT",{"$f":"'[1]Buyer_Detail_for_Sellers (2)'!K372","v":2800},"Y"]
["918","1FM5K8AR8HGE14248",2017,"FORD","POL INTRCEPT",{"$f":"'[1]Buyer_Detail_for_Sellers (2)'!H373","v":166929},"MBT",{"$f":"'[1]Buyer_Detail_for_Sellers (2)'!K373","v":1600},"Y"]
["919","1FAHP2MK6HG136146",2017,"FORD","POL INTRCEPT",{"$f":"'[1]Buyer_Detail_for_Sellers (2)'!H374","v":137310},null,{"$f":"'[1]Buyer_Detail_for_Sellers (2)'!K374","v":1300},"Y"]
["920","1FM5K8AR2HGE14326",2017,"FORD","POL INTRCEPT",{"$f":"'[1]Buyer_Detail_for_Sellers (2)'!H375","v":127597},null,{"$f":"'[1]Buyer_Detail_for_Sellers (2)'!K375","v":550},"Y"]
["921","1FAHP2MK9HG143561",2017,"FORD","POL INTRCEPT",{"$f":"'[1]Buyer_Detail_for_Sellers (2)'!H376","v":88754},null,{"$f":"'[1]Buyer_Detail_for_Sellers (2)'!K376","v":1300},"Y"]
["922","1FM5K8AR5HGE25756",2017,"FORD","POL INTRCEPT",{"$f":"'[1]Buyer_Detail_for_Sellers (2)'!H377","v":999999},null,{"$f":"'[1]Buyer_Detail_for_Sellers (2)'!K377","v":550},"Y"]
["923","1FM5K8AR6HGE14264",2017,"FORD","POL INTRCEPT",{"$f":"'[1]Buyer_Detail_for_Sellers (2)'!H378","v":157466},null,{"$f":"'[1]Buyer_Detail_for_Sellers (2)'!K378","v":2600},"Y"]
["924","1FM5K8AR1HGE14320",2017,"FORD","POL INTRCEPT",{"$f":"'[1]Buyer_Detail_for_Sellers (2)'!H379","v":98067},null,{"$f":"'[1]Buyer_Detail_for_Sellers (2)'!K379","v":1200},"Y"]
["925","1FAHP2MK2HG114001",2017,"FORD","POL INTRCEPT",{"$f":"'[1]Buyer_Detail_for_Sellers (2)'!H380","v":163803},null,{"$f":"'[1]Buyer_Detail_for_Sellers (2)'!K380","v":700},"Y"]
["926","1FM5K8AR9HGE14243",2017,"FORD","POL INTRCEPT",{"$f":"'[1]Buyer_Detail_for_Sellers (2)'!H381","v":148772},null,{"$f":"'[1]Buyer_Detail_for_Sellers (2)'!K381","v":700},"Y"]
["927","2C4RDGBG5HR839058",2017,"DODGE","CARAVAN",{"$f":"'[1]Buyer_Detail_for_Sellers (2)'!H382","v":96932},null,{"$f":"'[1]Buyer_Detail_for_Sellers (2)'!K382","v":4000},"Y"]
["928","1N4AL3AP2HC291917",2017,"NISSAN","ALTIMA",{"$f":"'[1]Buyer_Detail_for_Sellers (2)'!H383","v":133433},"MBT",{"$f":"'[1]Buyer_Detail_for_Sellers (2)'!K383","v":1200},"Y"]
["929","1FM5K8AR0GGC95755",2016,"FORD","POL INTRCEPT",{"$f":"'[1]Buyer_Detail_for_Sellers (2)'!H384","v":109192},null,{"$f":"'[1]Buyer_Detail_for_Sellers (2)'!K384","v":900},"Y"]
["930","1FAHP2MK4GG129792",2016,"FORD","POL INTRCEPT",{"$f":"'[1]Buyer_Detail_for_Sellers (2)'!H385","v":999999},null,{"$f":"'[1]Buyer_Detail_for_Sellers (2)'!K385","v":550},"Y"]
["931","1FAHP2MK6GG127106",2016,"FORD","POL INTRCEPT",{"$f":"'[1]Buyer_Detail_for_Sellers (2)'!H386","v":153108},null,{"$f":"'[1]Buyer_Detail_for_Sellers (2)'!K386","v":2400},"Y"]
["932","1FAHP2MK5GG126996",2016,"FORD","POL INTRCEPT",{"$f":"'[1]Buyer_Detail_for_Sellers (2)'!H387","v":148681},null,{"$f":"'[1]Buyer_Detail_for_Sellers (2)'!K387","v":2400},"Y"]
["933","1FM5K8AR3FGA47255",2015,"FORD","POL INTRCEPT",{"$f":"'[1]Buyer_Detail_for_Sellers (2)'!H388","v":105976},null,{"$f":"'[1]Buyer_Detail_for_Sellers (2)'!K388","v":900},"Y"]
["934","1FAHP2MK4FG178540",2015,"FORD","POL INTRCEPT",{"$f":"'[1]Buyer_Detail_for_Sellers (2)'!H389","v":999999},"MBT",{"$f":"'[1]Buyer_Detail_for_Sellers (2)'!K389","v":550},"Y"]
["935","1FAHP2MK8FG173454",2015,"FORD","POL INTRCEPT",{"$f":"'[1]Buyer_Detail_for_Sellers (2)'!H390","v":153162},null,{"$f":"'[1]Buyer_Detail_for_Sellers (2)'!K390","v":1800},"Y"]
["936","1GCZGTCG4F1278688",2015,"CHEVROLET","EXPRESS 3500",{"$f":"'[1]Buyer_Detail_for_Sellers (2)'!H391","v":152512},null,{"$f":"'[1]Buyer_Detail_for_Sellers (2)'!K391","v":4000},"N"]
["937","1FAHP2MK6EG180272",2014,"FORD","POL INTRCEPT",{"$f":"'[1]Buyer_Detail_for_Sellers (2)'!H392","v":169179},null,{"$f":"'[1]Buyer_Detail_for_Sellers (2)'!K392","v":2600},"Y"]
["938","1FM5K8AR5EGB45380",2014,"FORD","EXPLORER",{"$f":"'[1]Buyer_Detail_for_Sellers (2)'!H393","v":999999},null,{"$f":"'[1]Buyer_Detail_for_Sellers (2)'!K393","v":550},"Y"]
["939","3FA6P0G71ER339128",2014,"FORD","FUSION",{"$f":"'[1]Buyer_Detail_for_Sellers (2)'!H394","v":107207},null,{"$f":"'[1]Buyer_Detail_for_Sellers (2)'!K394","v":4600},"Y"]
["940","1FADP3F23EL375996",2014,"FORD","FOCUS",{"$f":"'[1]Buyer_Detail_for_Sellers (2)'!H395","v":79101},"MBT",{"$f":"'[1]Buyer_Detail_for_Sellers (2)'!K395","v":2200},"Y"]
["941","3GCUKPEC4EG364402",2014,"CHEVROLET","K1500",{"$f":"'[1]Buyer_Detail_for_Sellers (2)'!H396","v":55123},null,{"$f":"'[1]Buyer_Detail_for_Sellers (2)'!K396","v":9800},"Y"]
["942","1GNSK2E04DR303671",2013,"CHEVROLET","TAHOE",{"$f":"'[1]Buyer_Detail_for_Sellers (2)'!H397","v":134747},"MBT",{"$f":"'[1]Buyer_Detail_for_Sellers (2)'!K397","v":2000},"Y"]
["943","1GNSK2E06DR124015",2013,"CHEVROLET","TAHOE",{"$f":"'[1]Buyer_Detail_for_Sellers (2)'!H398","v":146406},null,{"$f":"'[1]Buyer_Detail_for_Sellers (2)'!K398","v":3000},"Y"]
["944","1GNSK2E03DR303726",2013,"CHEVROLET","TAHOE",{"$f":"'[1]Buyer_Detail_for_Sellers (2)'!H399","v":123657},"MBT",{"$f":"'[1]Buyer_Detail_for_Sellers (2)'!K399","v":1600},"Y"]
["945","1FAHP2MKXDG231240",2013,"FORD","POL INTRCEPT",{"$f":"'[1]Buyer_Detail_for_Sellers (2)'!H400","v":87954},"MBT",{"$f":"'[1]Buyer_Detail_for_Sellers (2)'!K400","v":600},"Y"]
["946","1FM5K8AR4DGC73138",2013,"FORD","POL INTRCEPT",{"$f":"'[1]Buyer_Detail_for_Sellers (2)'!H401","v":194236},null,{"$f":"'[1]Buyer_Detail_for_Sellers (2)'!K401","v":1600},"Y"]
["947","2C4RDGBG4DR664070",2013,"DODGE","CARAVAN",{"$f":"'[1]Buyer_Detail_for_Sellers (2)'!H402","v":46066},null,{"$f":"'[1]Buyer_Detail_for_Sellers (2)'!K402","v":4000},"Y"]
["948","2C4RDGBG1DR765759",2013,"DODGE","CARAVAN",{"$f":"'[1]Buyer_Detail_for_Sellers (2)'!H403","v":181182},"MBT",{"$f":"'[1]Buyer_Detail_for_Sellers (2)'!K403","v":3000},"Y"]
["949","2C4RDGBGXDR813310",2013,"DODGE","CARAVAN",{"$f":"'[1]Buyer_Detail_for_Sellers (2)'!H404","v":75705},null,{"$f":"'[1]Buyer_Detail_for_Sellers (2)'!K404","v":4200},"Y"]
["950","3FA6P0G78DR113991",2013,"FORD","FUSION",{"$f":"'[1]Buyer_Detail_for_Sellers (2)'!H405","v":179129},null,{"$f":"'[1]Buyer_Detail_for_Sellers (2)'!K405","v":2400},"Y"]
["952","5NPEB4AC8CH421147",2012,"HYUNDAI","SONATA",121429,"MBT",2000,"Y"]
["953","1G1ZA5EU1CF320757",2012,"CHEVROLET","MALIBU",184538,"MBT DAMAGED",2900,"Y"]
["954","2C4RDGBG2CR156193",2012,"DODGE","CARAVAN",123371,"MBT",2600,"Y"]
["955","3FAHP0GA0CR449895",2012,"FORD","FUSION",59823,"NON REPAIR",3200,"Y"]
["957","1GNSK2E01BR136733",2011,"CHEVROLET","TAHOE",{"$f":"'[1]Buyer_Detail_for_Sellers (2)'!H412","v":146756},"MBT",{"$f":"'[1]Buyer_Detail_for_Sellers (2)'!K412","v":2300},"Y"]
["958","1GNSK2E08BR135319",2011,"CHEVROLET","TAHOE",{"$f":"'[1]Buyer_Detail_for_Sellers (2)'!H413","v":207142},"MBT",{"$f":"'[1]Buyer_Detail_for_Sellers (2)'!K413","v":1100},"Y"]
["959","1GNSK2E01BR137025",2011,"CHEVROLET","TAHOE",{"$f":"'[1]Buyer_Detail_for_Sellers (2)'!H414","v":116033},"MBT",{"$f":"'[1]Buyer_Detail_for_Sellers (2)'!K414","v":2200},"N"]
["963","1GCEK19048Z250115",2008,"CHEVROLET","SILVER K1500",null,"MBT",0]
["964","1GCEK19038Z250235",2008,"CHEVROLET","SILVER K1500",191327,null,1100,"Y"]
["965","WBAHN83577DT72851",2007,"BMW","750IL",{"$f":"'[1]Buyer_Detail_for_Sellers (2)'!H419","v":179471},null,{"$f":"'[1]Buyer_Detail_for_Sellers (2)'!K419","v":600},"Y"]
["966","1GCEK19027Z586179",2007,"CHEVROLET","SILVER K1500",{"$f":"'[1]Buyer_Detail_for_Sellers (2)'!H420","v":223758},"MBT",{"$f":"'[1]Buyer_Detail_for_Sellers (2)'!K420","v":900},"Y"]
["967","1FBSS31L63HA79617",2003,"FORD","E350 WGN XL",{"$f":"'[1]Buyer_Detail_for_Sellers (2)'!H421","v":69946},null,{"$f":"'[1]Buyer_Detail_for_Sellers (2)'!K421","v":1300},"Y"]
["968","1FAHP2MK0GG117817",2016,"FORD","POL INTRCEPT",{"$f":"'[1]Buyer_Detail_for_Sellers (2)'!H422","v":169303},null,{"$f":"'[1]Buyer_Detail_for_Sellers (2)'!K422","v":2100},"Y"]
["990","1GCDC14ZXJZ303260",1988,"CHEVROLET","C1500",{"$f":"'[1]Buyer_Detail_for_Sellers (2)'!H423","v":114237},"OFF SITE MBT",{"$f":"'[1]Buyer_Detail_for_Sellers (2)'!K423","v":600},"Y"]
["991","2B5WB35Y8VK563798",1997,"DODGE","RAM 3500 VN",null,"OFF SITE MBT",0]
["992","1FDXF80C2TVA04947",1996,"FORD","F800",157297,"SELL FROM SITE",{"$f":"'[1]Buyer_Detail_for_Sellers (2)'!K424","v":1000},"Y"]